BEGIN:VCALENDAR
VERSION:2.0
PRODID:-//Messiah Lutheran Church - ECPv4.6//NONSGML v1.0//EN
CALSCALE:GREGORIAN
METHOD:PUBLISH
X-WR-CALNAME:Messiah Lutheran Church
X-ORIGINAL-URL:https://messiahlutheranchurchhouston.org
X-WR-CALDESC:Events for Messiah Lutheran Church
BEGIN:VEVENT
DTSTART;TZID=UTC+0:20250112T090000
DTEND;TZID=UTC+0:20250112T100000
DTSTAMP:20260421T233855
CREATED:20250102T203021Z
LAST-MODIFIED:20250102T203021Z
UID:5844-1736672400-1736676000@messiahlutheranchurchhouston.org
SUMMARY:Worship
DESCRIPTION:
URL:https://messiahlutheranchurchhouston.org/event/worship-213/
END:VEVENT
BEGIN:VEVENT
DTSTART;TZID=UTC+0:20250112T101500
DTEND;TZID=UTC+0:20250112T111500
DTSTAMP:20260421T233855
CREATED:20250102T203041Z
LAST-MODIFIED:20250102T203041Z
UID:5846-1736676900-1736680500@messiahlutheranchurchhouston.org
SUMMARY:Bible Study
DESCRIPTION:
URL:https://messiahlutheranchurchhouston.org/event/bible-study-183/
END:VEVENT
END:VCALENDAR