BEGIN:VCALENDAR
VERSION:2.0
PRODID:-//Messiah Lutheran Church - ECPv4.6//NONSGML v1.0//EN
CALSCALE:GREGORIAN
METHOD:PUBLISH
X-WR-CALNAME:Messiah Lutheran Church
X-ORIGINAL-URL:https://messiahlutheranchurchhouston.org
X-WR-CALDESC:Events for Messiah Lutheran Church
BEGIN:VEVENT
DTSTART;TZID=UTC+0:20240825T090000
DTEND;TZID=UTC+0:20240825T100000
DTSTAMP:20260419T162700
CREATED:20240724T165329Z
LAST-MODIFIED:20240724T165329Z
UID:5627-1724576400-1724580000@messiahlutheranchurchhouston.org
SUMMARY:Worship
DESCRIPTION:
URL:https://messiahlutheranchurchhouston.org/event/worship-206/
END:VEVENT
BEGIN:VEVENT
DTSTART;TZID=UTC+0:20240825T101500
DTEND;TZID=UTC+0:20240825T111500
DTSTAMP:20260419T162700
CREATED:20240724T165350Z
LAST-MODIFIED:20240724T165350Z
UID:5629-1724580900-1724584500@messiahlutheranchurchhouston.org
SUMMARY:Bible Study
DESCRIPTION:
URL:https://messiahlutheranchurchhouston.org/event/bible-study-163/
END:VEVENT
END:VCALENDAR