BEGIN:VCALENDAR
VERSION:2.0
PRODID:-//Messiah Lutheran Church - ECPv4.6//NONSGML v1.0//EN
CALSCALE:GREGORIAN
METHOD:PUBLISH
X-WR-CALNAME:Messiah Lutheran Church
X-ORIGINAL-URL:https://messiahlutheranchurchhouston.org
X-WR-CALDESC:Events for Messiah Lutheran Church
BEGIN:VEVENT
DTSTART;TZID=UTC+0:20240707T090000
DTEND;TZID=UTC+0:20240707T100000
DTSTAMP:20260424T212428
CREATED:20240612T183250Z
LAST-MODIFIED:20240612T183250Z
UID:5583-1720342800-1720346400@messiahlutheranchurchhouston.org
SUMMARY:Communion Worship
DESCRIPTION:
URL:https://messiahlutheranchurchhouston.org/event/communion-worship-177/
END:VEVENT
BEGIN:VEVENT
DTSTART;TZID=UTC+0:20240707T101500
DTEND;TZID=UTC+0:20240707T111500
DTSTAMP:20260424T212428
CREATED:20240612T183313Z
LAST-MODIFIED:20240612T183313Z
UID:5585-1720347300-1720350900@messiahlutheranchurchhouston.org
SUMMARY:Bible Study
DESCRIPTION:
URL:https://messiahlutheranchurchhouston.org/event/bible-study-157/
END:VEVENT
END:VCALENDAR