BEGIN:VCALENDAR
VERSION:2.0
PRODID:-//Messiah Lutheran Church - ECPv4.6//NONSGML v1.0//EN
CALSCALE:GREGORIAN
METHOD:PUBLISH
X-WR-CALNAME:Messiah Lutheran Church
X-ORIGINAL-URL:https://messiahlutheranchurchhouston.org
X-WR-CALDESC:Events for Messiah Lutheran Church
BEGIN:VEVENT
DTSTART;TZID=UTC+0:20230419T190000
DTEND;TZID=UTC+0:20230419T200000
DTSTAMP:20260423T054347
CREATED:20230322T170612Z
LAST-MODIFIED:20230322T170612Z
UID:4925-1681930800-1681934400@messiahlutheranchurchhouston.org
SUMMARY:Zoom Bible Study
DESCRIPTION:
URL:https://messiahlutheranchurchhouston.org/event/zoom-bible-study-50/
END:VEVENT
END:VCALENDAR