BEGIN:VCALENDAR
VERSION:2.0
PRODID:-//Messiah Lutheran Church - ECPv4.6//NONSGML v1.0//EN
CALSCALE:GREGORIAN
METHOD:PUBLISH
X-WR-CALNAME:Messiah Lutheran Church
X-ORIGINAL-URL:https://messiahlutheranchurchhouston.org
X-WR-CALDESC:Events for Messiah Lutheran Church
BEGIN:VEVENT
DTSTART;TZID=UTC+0:20170611T090000
DTEND;TZID=UTC+0:20170611T100000
DTSTAMP:20260420T093528
CREATED:20170517T181751Z
LAST-MODIFIED:20170517T181751Z
UID:1109-1497171600-1497175200@messiahlutheranchurchhouston.org
SUMMARY:Worship
DESCRIPTION:
URL:https://messiahlutheranchurchhouston.org/event/worship-9/
END:VEVENT
END:VCALENDAR