BEGIN:VCALENDAR
VERSION:2.0
PRODID:-//Messiah Lutheran Church - ECPv4.6//NONSGML v1.0//EN
CALSCALE:GREGORIAN
METHOD:PUBLISH
X-WR-CALNAME:Messiah Lutheran Church
X-ORIGINAL-URL:https://messiahlutheranchurchhouston.org
X-WR-CALDESC:Events for Messiah Lutheran Church
BEGIN:VEVENT
DTSTART;TZID=UTC+0:20230528T090000
DTEND;TZID=UTC+0:20230528T100000
DTSTAMP:20260423T042707
CREATED:20230420T170213Z
LAST-MODIFIED:20230420T170213Z
UID:4974-1685264400-1685268000@messiahlutheranchurchhouston.org
SUMMARY:Worship
DESCRIPTION:
URL:https://messiahlutheranchurchhouston.org/event/worship-172/
END:VEVENT
END:VCALENDAR