BEGIN:VCALENDAR
VERSION:2.0
PRODID:-//Messiah Lutheran Church - ECPv4.6//NONSGML v1.0//EN
CALSCALE:GREGORIAN
METHOD:PUBLISH
X-WR-CALNAME:Messiah Lutheran Church
X-ORIGINAL-URL:https://messiahlutheranchurchhouston.org
X-WR-CALDESC:Events for Messiah Lutheran Church
BEGIN:VEVENT
DTSTART;TZID=UTC+0:20220410T090000
DTEND;TZID=UTC+0:20220410T100000
DTSTAMP:20260422T011552
CREATED:20220323T155850Z
LAST-MODIFIED:20220323T155850Z
UID:4178-1649581200-1649584800@messiahlutheranchurchhouston.org
SUMMARY:Worship
DESCRIPTION:
URL:https://messiahlutheranchurchhouston.org/event/worship-143/
END:VEVENT
END:VCALENDAR