BEGIN:VCALENDAR
VERSION:2.0
PRODID:-//Messiah Lutheran Church - ECPv4.6//NONSGML v1.0//EN
CALSCALE:GREGORIAN
METHOD:PUBLISH
X-WR-CALNAME:Messiah Lutheran Church
X-ORIGINAL-URL:https://messiahlutheranchurchhouston.org
X-WR-CALDESC:Events for Messiah Lutheran Church
BEGIN:VEVENT
DTSTART;TZID=UTC+0:20211031T090000
DTEND;TZID=UTC+0:20211031T100000
DTSTAMP:20260420T052053
CREATED:20210923T182620Z
LAST-MODIFIED:20210923T182620Z
UID:3749-1635670800-1635674400@messiahlutheranchurchhouston.org
SUMMARY:Worship
DESCRIPTION:
URL:https://messiahlutheranchurchhouston.org/event/worship-131/
END:VEVENT
END:VCALENDAR