BEGIN:VCALENDAR
VERSION:2.0
PRODID:-//Messiah Lutheran Church - ECPv4.6//NONSGML v1.0//EN
CALSCALE:GREGORIAN
METHOD:PUBLISH
X-WR-CALNAME:Messiah Lutheran Church
X-ORIGINAL-URL:https://messiahlutheranchurchhouston.org
X-WR-CALDESC:Events for Messiah Lutheran Church
BEGIN:VEVENT
DTSTART;TZID=UTC+0:20170402T150000
DTEND;TZID=UTC+0:20170402T180000
DTSTAMP:20260421T021026
CREATED:20170307T191255Z
LAST-MODIFIED:20170307T193114Z
UID:969-1491145200-1491156000@messiahlutheranchurchhouston.org
SUMMARY:SpringFest
DESCRIPTION:Train rides\, kids activities\, food \n
URL:https://messiahlutheranchurchhouston.org/event/springfest/
END:VEVENT
END:VCALENDAR