BEGIN:VCALENDAR
VERSION:2.0
PRODID:-//Messiah Lutheran Church - ECPv4.6//NONSGML v1.0//EN
CALSCALE:GREGORIAN
METHOD:PUBLISH
X-WR-CALNAME:Messiah Lutheran Church
X-ORIGINAL-URL:https://messiahlutheranchurchhouston.org
X-WR-CALDESC:Events for Messiah Lutheran Church
BEGIN:VEVENT
DTSTART;TZID=UTC+0:20170327T080000
DTEND;TZID=UTC+0:20170327T100000
DTSTAMP:20260421T035359
CREATED:20170302T192652Z
LAST-MODIFIED:20170302T192652Z
UID:952-1490601600-1490608800@messiahlutheranchurchhouston.org
SUMMARY:Prayer at Corner Bakery
DESCRIPTION:
URL:https://messiahlutheranchurchhouston.org/event/prayer-at-corner-bakery-4/
END:VEVENT
END:VCALENDAR