BEGIN:VCALENDAR
VERSION:2.0
PRODID:-//Messiah Lutheran Church - ECPv4.6//NONSGML v1.0//EN
CALSCALE:GREGORIAN
METHOD:PUBLISH
X-WR-CALNAME:Messiah Lutheran Church
X-ORIGINAL-URL:https://messiahlutheranchurchhouston.org
X-WR-CALDESC:Events for Messiah Lutheran Church
BEGIN:VEVENT
DTSTART;TZID=UTC+0:20170614T090000
DTEND;TZID=UTC+0:20170614T100000
DTSTAMP:20260420T064427
CREATED:20170523T141505Z
LAST-MODIFIED:20170523T141505Z
UID:1136-1497430800-1497434400@messiahlutheranchurchhouston.org
SUMMARY:Prayer at Corner Bakery
DESCRIPTION:
URL:https://messiahlutheranchurchhouston.org/event/prayer-at-corner-bakery-14/
END:VEVENT
END:VCALENDAR