BEGIN:VCALENDAR
VERSION:2.0
PRODID:-//Messiah Lutheran Church - ECPv4.6//NONSGML v1.0//EN
CALSCALE:GREGORIAN
METHOD:PUBLISH
X-WR-CALNAME:Messiah Lutheran Church
X-ORIGINAL-URL:https://messiahlutheranchurchhouston.org
X-WR-CALDESC:Events for Messiah Lutheran Church
BEGIN:VEVENT
DTSTART;TZID=UTC+0:20170524T090000
DTEND;TZID=UTC+0:20170524T110000
DTSTAMP:20260420T165954
CREATED:20170426T170911Z
LAST-MODIFIED:20170426T170911Z
UID:1087-1495616400-1495623600@messiahlutheranchurchhouston.org
SUMMARY:Prayer at Corner Bakery
DESCRIPTION:
URL:https://messiahlutheranchurchhouston.org/event/prayer-at-corner-bakery-12/
END:VEVENT
END:VCALENDAR