BEGIN:VCALENDAR
VERSION:2.0
PRODID:-//Messiah Lutheran Church - ECPv4.6//NONSGML v1.0//EN
CALSCALE:GREGORIAN
METHOD:PUBLISH
X-WR-CALNAME:Messiah Lutheran Church
X-ORIGINAL-URL:https://messiahlutheranchurchhouston.org
X-WR-CALDESC:Events for Messiah Lutheran Church
BEGIN:VEVENT
DTSTART;TZID=UTC+0:20170426T100000
DTEND;TZID=UTC+0:20170426T110000
DTSTAMP:20260420T230554
CREATED:20170329T212929Z
LAST-MODIFIED:20170329T212929Z
UID:1031-1493200800-1493204400@messiahlutheranchurchhouston.org
SUMMARY:Pastor Leading Chapel at Lutheran High North
DESCRIPTION:
URL:https://messiahlutheranchurchhouston.org/event/pastor-leading-chapel-at-lutheran-high-north/
END:VEVENT
END:VCALENDAR