BEGIN:VCALENDAR
VERSION:2.0
PRODID:-//Messiah Lutheran Church - ECPv4.6//NONSGML v1.0//EN
CALSCALE:GREGORIAN
METHOD:PUBLISH
X-WR-CALNAME:Messiah Lutheran Church
X-ORIGINAL-URL:https://messiahlutheranchurchhouston.org
X-WR-CALDESC:Events for Messiah Lutheran Church
BEGIN:VEVENT
DTSTART;TZID=UTC+0:20220412T103000
DTEND;TZID=UTC+0:20220412T120000
DTSTAMP:20260422T030950
CREATED:20220323T160842Z
LAST-MODIFIED:20220323T160842Z
UID:4209-1649759400-1649764800@messiahlutheranchurchhouston.org
SUMMARY:Pastor at Lutheran North
DESCRIPTION:
URL:https://messiahlutheranchurchhouston.org/event/pastor-at-lutheran-north/
END:VEVENT
END:VCALENDAR