BEGIN:VCALENDAR
VERSION:2.0
PRODID:-//Messiah Lutheran Church - ECPv4.6//NONSGML v1.0//EN
CALSCALE:GREGORIAN
METHOD:PUBLISH
X-WR-CALNAME:Messiah Lutheran Church
X-ORIGINAL-URL:https://messiahlutheranchurchhouston.org
X-WR-CALDESC:Events for Messiah Lutheran Church
BEGIN:VEVENT
DTSTART;VALUE=DATE:20230402
DTEND;VALUE=DATE:20230402
DTSTAMP:20260423T085637
CREATED:20230322T165900Z
LAST-MODIFIED:20230322T165900Z
UID:4893-1680393600-1680479999@messiahlutheranchurchhouston.org
SUMMARY:Palm Sunday
DESCRIPTION:
URL:https://messiahlutheranchurchhouston.org/event/palm-sunday-5/
END:VEVENT
END:VCALENDAR