BEGIN:VCALENDAR
VERSION:2.0
PRODID:-//Messiah Lutheran Church - ECPv4.6//NONSGML v1.0//EN
CALSCALE:GREGORIAN
METHOD:PUBLISH
X-WR-CALNAME:Messiah Lutheran Church
X-ORIGINAL-URL:https://messiahlutheranchurchhouston.org
X-WR-CALDESC:Events for Messiah Lutheran Church
BEGIN:VEVENT
DTSTART;VALUE=DATE:20201231
DTEND;VALUE=DATE:20201231
DTSTAMP:20260425T193759
CREATED:20201202T191337Z
LAST-MODIFIED:20201202T191337Z
UID:3246-1609372800-1609459199@messiahlutheranchurchhouston.org
SUMMARY:New Year's Eve
DESCRIPTION:
URL:https://messiahlutheranchurchhouston.org/event/new-years-eve-2/
END:VEVENT
END:VCALENDAR