BEGIN:VCALENDAR
VERSION:2.0
PRODID:-//Messiah Lutheran Church - ECPv4.6//NONSGML v1.0//EN
CALSCALE:GREGORIAN
METHOD:PUBLISH
X-WR-CALNAME:Messiah Lutheran Church
X-ORIGINAL-URL:https://messiahlutheranchurchhouston.org
X-WR-CALDESC:Events for Messiah Lutheran Church
BEGIN:VEVENT
DTSTART;VALUE=DATE:20230514
DTEND;VALUE=DATE:20230514
DTSTAMP:20260422T234850
CREATED:20230420T165935Z
LAST-MODIFIED:20230420T165935Z
UID:4960-1684022400-1684108799@messiahlutheranchurchhouston.org
SUMMARY:Mother's Day
DESCRIPTION:
URL:https://messiahlutheranchurchhouston.org/event/mothers-day-7/
END:VEVENT
END:VCALENDAR