BEGIN:VCALENDAR
VERSION:2.0
PRODID:-//Messiah Lutheran Church - ECPv4.6//NONSGML v1.0//EN
CALSCALE:GREGORIAN
METHOD:PUBLISH
X-WR-CALNAME:Messiah Lutheran Church
X-ORIGINAL-URL:https://messiahlutheranchurchhouston.org
X-WR-CALDESC:Events for Messiah Lutheran Church
BEGIN:VEVENT
DTSTART;TZID=UTC+0:20220323T190000
DTEND;TZID=UTC+0:20220323T200000
DTSTAMP:20260421T200227
CREATED:20220223T190007Z
LAST-MODIFIED:20220223T190007Z
UID:4137-1648062000-1648065600@messiahlutheranchurchhouston.org
SUMMARY:Lenten Worship
DESCRIPTION:
URL:https://messiahlutheranchurchhouston.org/event/lenten-worship-20/
END:VEVENT
END:VCALENDAR