BEGIN:VCALENDAR
VERSION:2.0
PRODID:-//Messiah Lutheran Church - ECPv4.6//NONSGML v1.0//EN
CALSCALE:GREGORIAN
METHOD:PUBLISH
X-WR-CALNAME:Messiah Lutheran Church
X-ORIGINAL-URL:https://messiahlutheranchurchhouston.org
X-WR-CALDESC:Events for Messiah Lutheran Church
BEGIN:VEVENT
DTSTART;TZID=UTC+0:20170623T090000
DTEND;TZID=UTC+0:20170623T110000
DTSTAMP:20260422T114301
CREATED:20170517T182253Z
LAST-MODIFIED:20170517T182253Z
UID:1128-1498208400-1498215600@messiahlutheranchurchhouston.org
SUMMARY:Kids Camp
DESCRIPTION:
URL:https://messiahlutheranchurchhouston.org/event/kids-camp-3/
END:VEVENT
END:VCALENDAR