BEGIN:VCALENDAR
VERSION:2.0
PRODID:-//Messiah Lutheran Church - ECPv4.6//NONSGML v1.0//EN
CALSCALE:GREGORIAN
METHOD:PUBLISH
X-WR-CALNAME:Messiah Lutheran Church
X-ORIGINAL-URL:https://messiahlutheranchurchhouston.org
X-WR-CALDESC:Events for Messiah Lutheran Church
BEGIN:VEVENT
DTSTART;VALUE=DATE:20170704
DTEND;VALUE=DATE:20170704
DTSTAMP:20260420T011151
CREATED:20170626T175942Z
LAST-MODIFIED:20170626T175942Z
UID:1187-1499126400-1499212799@messiahlutheranchurchhouston.org
SUMMARY:HOLIDAY
DESCRIPTION:
URL:https://messiahlutheranchurchhouston.org/event/holiday/
END:VEVENT
END:VCALENDAR