BEGIN:VCALENDAR
VERSION:2.0
PRODID:-//Messiah Lutheran Church - ECPv4.6//NONSGML v1.0//EN
CALSCALE:GREGORIAN
METHOD:PUBLISH
X-WR-CALNAME:Messiah Lutheran Church
X-ORIGINAL-URL:https://messiahlutheranchurchhouston.org
X-WR-CALDESC:Events for Messiah Lutheran Church
BEGIN:VEVENT
DTSTART;VALUE=DATE:20170730
DTEND;VALUE=DATE:20170730
DTSTAMP:20260420T022834
CREATED:20170626T175828Z
LAST-MODIFIED:20170626T175828Z
UID:1181-1501372800-1501459199@messiahlutheranchurchhouston.org
SUMMARY:Guest Pastor - Rev. Harold Fleischhauer
DESCRIPTION:
URL:https://messiahlutheranchurchhouston.org/event/guest-pastor-rev-harold-fleischhauer-2/
END:VEVENT
END:VCALENDAR