BEGIN:VCALENDAR
VERSION:2.0
PRODID:-//Messiah Lutheran Church - ECPv4.6//NONSGML v1.0//EN
CALSCALE:GREGORIAN
METHOD:PUBLISH
X-WR-CALNAME:Messiah Lutheran Church
X-ORIGINAL-URL:https://messiahlutheranchurchhouston.org
X-WR-CALDESC:Events for Messiah Lutheran Church
BEGIN:VEVENT
DTSTART;VALUE=DATE:20170611
DTEND;VALUE=DATE:20170611
DTSTAMP:20260420T110823
CREATED:20170517T181728Z
LAST-MODIFIED:20170517T181728Z
UID:1107-1497139200-1497225599@messiahlutheranchurchhouston.org
SUMMARY:Guest Pastor - Rev. Dr. Donn Williams
DESCRIPTION:
URL:https://messiahlutheranchurchhouston.org/event/guest-pastor-rev-dr-donn-williams/
END:VEVENT
END:VCALENDAR