BEGIN:VCALENDAR
VERSION:2.0
PRODID:-//Messiah Lutheran Church - ECPv4.6//NONSGML v1.0//EN
CALSCALE:GREGORIAN
METHOD:PUBLISH
X-WR-CALNAME:Messiah Lutheran Church
X-ORIGINAL-URL:https://messiahlutheranchurchhouston.org
X-WR-CALDESC:Events for Messiah Lutheran Church
BEGIN:VEVENT
DTSTART;VALUE=DATE:20170709
DTEND;VALUE=DATE:20170709
DTSTAMP:20260420T052053
CREATED:20170626T175256Z
LAST-MODIFIED:20170626T175256Z
UID:1165-1499558400-1499644799@messiahlutheranchurchhouston.org
SUMMARY:Guest Pastor - Rev. Dr. Donn Williams
DESCRIPTION:
URL:https://messiahlutheranchurchhouston.org/event/guest-pastor-rev-dr-donn-williams-2/
END:VEVENT
END:VCALENDAR