BEGIN:VCALENDAR
VERSION:2.0
PRODID:-//Messiah Lutheran Church - ECPv4.6//NONSGML v1.0//EN
CALSCALE:GREGORIAN
METHOD:PUBLISH
X-WR-CALNAME:Messiah Lutheran Church
X-ORIGINAL-URL:https://messiahlutheranchurchhouston.org
X-WR-CALDESC:Events for Messiah Lutheran Church
BEGIN:VEVENT
DTSTART;VALUE=DATE:20220415
DTEND;VALUE=DATE:20220415
DTSTAMP:20260421T233657
CREATED:20220323T161850Z
LAST-MODIFIED:20220323T161850Z
UID:4253-1649980800-1650067199@messiahlutheranchurchhouston.org
SUMMARY:Good Friday
DESCRIPTION:
URL:https://messiahlutheranchurchhouston.org/event/good-friday-4/
END:VEVENT
END:VCALENDAR