BEGIN:VCALENDAR
VERSION:2.0
PRODID:-//Messiah Lutheran Church - ECPv4.6//NONSGML v1.0//EN
CALSCALE:GREGORIAN
METHOD:PUBLISH
X-WR-CALNAME:Messiah Lutheran Church
X-ORIGINAL-URL:https://messiahlutheranchurchhouston.org
X-WR-CALDESC:Events for Messiah Lutheran Church
BEGIN:VEVENT
DTSTART;TZID=UTC+0:20220401T103000
DTEND;TZID=UTC+0:20220401T113000
DTSTAMP:20260421T200540
CREATED:20220323T161806Z
LAST-MODIFIED:20220323T161806Z
UID:4249-1648809000-1648812600@messiahlutheranchurchhouston.org
SUMMARY:Gabriel at Lutheran North
DESCRIPTION:
URL:https://messiahlutheranchurchhouston.org/event/gabriel-at-lutheran-north/
END:VEVENT
END:VCALENDAR