BEGIN:VCALENDAR
VERSION:2.0
PRODID:-//Messiah Lutheran Church - ECPv4.6//NONSGML v1.0//EN
CALSCALE:GREGORIAN
METHOD:PUBLISH
X-WR-CALNAME:Messiah Lutheran Church
X-ORIGINAL-URL:https://messiahlutheranchurchhouston.org
X-WR-CALDESC:Events for Messiah Lutheran Church
BEGIN:VEVENT
DTSTART;TZID=UTC+0:20220422T103000
DTEND;TZID=UTC+0:20220422T113000
DTSTAMP:20260422T012402
CREATED:20220323T161944Z
LAST-MODIFIED:20220323T161944Z
UID:4257-1650623400-1650627000@messiahlutheranchurchhouston.org
SUMMARY:Gabriel at Lutheran North
DESCRIPTION:
URL:https://messiahlutheranchurchhouston.org/event/gabriel-at-lutheran-north-3/
END:VEVENT
END:VCALENDAR