BEGIN:VCALENDAR
VERSION:2.0
PRODID:-//Messiah Lutheran Church - ECPv4.6//NONSGML v1.0//EN
CALSCALE:GREGORIAN
METHOD:PUBLISH
X-WR-CALNAME:Messiah Lutheran Church
X-ORIGINAL-URL:https://messiahlutheranchurchhouston.org
X-WR-CALDESC:Events for Messiah Lutheran Church
BEGIN:VEVENT
DTSTART;VALUE=DATE:20231107
DTEND;VALUE=DATE:20231107
DTSTAMP:20260420T081836
CREATED:20231101T184211Z
LAST-MODIFIED:20231101T184211Z
UID:5225-1699315200-1699401599@messiahlutheranchurchhouston.org
SUMMARY:Election Day
DESCRIPTION:
URL:https://messiahlutheranchurchhouston.org/event/election-day-4/
END:VEVENT
END:VCALENDAR