BEGIN:VCALENDAR
VERSION:2.0
PRODID:-//Messiah Lutheran Church - ECPv4.6//NONSGML v1.0//EN
CALSCALE:GREGORIAN
METHOD:PUBLISH
X-WR-CALNAME:Messiah Lutheran Church
X-ORIGINAL-URL:https://messiahlutheranchurchhouston.org
X-WR-CALDESC:Events for Messiah Lutheran Church
BEGIN:VEVENT
DTSTART;VALUE=DATE:20220417
DTEND;VALUE=DATE:20220417
DTSTAMP:20260422T043415
CREATED:20220323T160058Z
LAST-MODIFIED:20220323T160058Z
UID:4188-1650153600-1650239999@messiahlutheranchurchhouston.org
SUMMARY:Easter Sunday
DESCRIPTION:
URL:https://messiahlutheranchurchhouston.org/event/easter-sunday-4/
END:VEVENT
END:VCALENDAR