BEGIN:VCALENDAR
VERSION:2.0
PRODID:-//Messiah Lutheran Church - ECPv4.6//NONSGML v1.0//EN
CALSCALE:GREGORIAN
METHOD:PUBLISH
X-WR-CALNAME:Messiah Lutheran Church
X-ORIGINAL-URL:https://messiahlutheranchurchhouston.org
X-WR-CALDESC:Events for Messiah Lutheran Church
BEGIN:VEVENT
DTSTART;VALUE=DATE:20170828
DTEND;VALUE=DATE:20170828
DTSTAMP:20260419T191659
CREATED:20170724T191553Z
LAST-MODIFIED:20170724T191553Z
UID:1218-1503878400-1503964799@messiahlutheranchurchhouston.org
SUMMARY:Early Childhood Center 1st Day of School
DESCRIPTION:
URL:https://messiahlutheranchurchhouston.org/event/early-childhood-center-1st-day-of-school/
END:VEVENT
END:VCALENDAR