BEGIN:VCALENDAR
VERSION:2.0
PRODID:-//Messiah Lutheran Church - ECPv4.6//NONSGML v1.0//EN
CALSCALE:GREGORIAN
METHOD:PUBLISH
X-WR-CALNAME:Messiah Lutheran Church
X-ORIGINAL-URL:https://messiahlutheranchurchhouston.org
X-WR-CALDESC:Events for Messiah Lutheran Church
BEGIN:VEVENT
DTSTART;TZID=UTC+0:20220421T100000
DTEND;TZID=UTC+0:20220421T110000
DTSTAMP:20260422T025609
CREATED:20220323T161506Z
LAST-MODIFIED:20220323T161506Z
UID:4237-1650535200-1650538800@messiahlutheranchurchhouston.org
SUMMARY:Corner Bible Study
DESCRIPTION:
URL:https://messiahlutheranchurchhouston.org/event/corner-bible-study-8/
END:VEVENT
END:VCALENDAR