BEGIN:VCALENDAR
VERSION:2.0
PRODID:-//Messiah Lutheran Church - ECPv4.6//NONSGML v1.0//EN
CALSCALE:GREGORIAN
METHOD:PUBLISH
X-WR-CALNAME:Messiah Lutheran Church
X-ORIGINAL-URL:https://messiahlutheranchurchhouston.org
X-WR-CALDESC:Events for Messiah Lutheran Church
BEGIN:VEVENT
DTSTART;TZID=UTC+0:20220407T100000
DTEND;TZID=UTC+0:20220407T110000
DTSTAMP:20260422T024922
CREATED:20220323T161115Z
LAST-MODIFIED:20220323T161115Z
UID:4221-1649325600-1649329200@messiahlutheranchurchhouston.org
SUMMARY:Corner Bible Study
DESCRIPTION:
URL:https://messiahlutheranchurchhouston.org/event/corner-bible-study-6/
END:VEVENT
END:VCALENDAR