BEGIN:VCALENDAR
VERSION:2.0
PRODID:-//Messiah Lutheran Church - ECPv4.6//NONSGML v1.0//EN
CALSCALE:GREGORIAN
METHOD:PUBLISH
X-WR-CALNAME:Messiah Lutheran Church
X-ORIGINAL-URL:https://messiahlutheranchurchhouston.org
X-WR-CALDESC:Events for Messiah Lutheran Church
BEGIN:VEVENT
DTSTART;TZID=UTC+0:20230427T100000
DTEND;TZID=UTC+0:20230427T110000
DTSTAMP:20260423T042457
CREATED:20230322T170908Z
LAST-MODIFIED:20230322T170908Z
UID:4939-1682589600-1682593200@messiahlutheranchurchhouston.org
SUMMARY:Corner Bible Study
DESCRIPTION:
URL:https://messiahlutheranchurchhouston.org/event/corner-bible-study-39/
END:VEVENT
END:VCALENDAR