BEGIN:VCALENDAR
VERSION:2.0
PRODID:-//Messiah Lutheran Church - ECPv4.6//NONSGML v1.0//EN
CALSCALE:GREGORIAN
METHOD:PUBLISH
X-WR-CALNAME:Messiah Lutheran Church
X-ORIGINAL-URL:https://messiahlutheranchurchhouston.org
X-WR-CALDESC:Events for Messiah Lutheran Church
BEGIN:VEVENT
DTSTART;TZID=UTC+0:20230406T100000
DTEND;TZID=UTC+0:20230406T110000
DTSTAMP:20260423T071047
CREATED:20230322T170721Z
LAST-MODIFIED:20230322T170721Z
UID:4931-1680775200-1680778800@messiahlutheranchurchhouston.org
SUMMARY:Corner Bible Study
DESCRIPTION:
URL:https://messiahlutheranchurchhouston.org/event/corner-bible-study-36/
END:VEVENT
END:VCALENDAR