BEGIN:VCALENDAR
VERSION:2.0
PRODID:-//Messiah Lutheran Church - ECPv4.6//NONSGML v1.0//EN
CALSCALE:GREGORIAN
METHOD:PUBLISH
X-WR-CALNAME:Messiah Lutheran Church
X-ORIGINAL-URL:https://messiahlutheranchurchhouston.org
X-WR-CALDESC:Events for Messiah Lutheran Church
BEGIN:VEVENT
DTSTART;TZID=UTC+0:20230323T100000
DTEND;TZID=UTC+0:20230323T110000
DTSTAMP:20260423T114231
CREATED:20230222T185825Z
LAST-MODIFIED:20230222T185825Z
UID:4880-1679565600-1679569200@messiahlutheranchurchhouston.org
SUMMARY:Corner Bible Study
DESCRIPTION:
URL:https://messiahlutheranchurchhouston.org/event/corner-bible-study-34/
END:VEVENT
END:VCALENDAR