BEGIN:VCALENDAR
VERSION:2.0
PRODID:-//Messiah Lutheran Church - ECPv4.6//NONSGML v1.0//EN
CALSCALE:GREGORIAN
METHOD:PUBLISH
X-WR-CALNAME:Messiah Lutheran Church
X-ORIGINAL-URL:https://messiahlutheranchurchhouston.org
X-WR-CALDESC:Events for Messiah Lutheran Church
BEGIN:VEVENT
DTSTART;TZID=UTC+0:20170618T090000
DTEND;TZID=UTC+0:20170618T100000
DTSTAMP:20260420T092816
CREATED:20170517T181855Z
LAST-MODIFIED:20170517T181855Z
UID:1115-1497776400-1497780000@messiahlutheranchurchhouston.org
SUMMARY:Communion Worship
DESCRIPTION:
URL:https://messiahlutheranchurchhouston.org/event/communion-worship-9/
END:VEVENT
END:VCALENDAR