BEGIN:VCALENDAR
VERSION:2.0
PRODID:-//Messiah Lutheran Church - ECPv4.6//NONSGML v1.0//EN
CALSCALE:GREGORIAN
METHOD:PUBLISH
X-WR-CALNAME:Messiah Lutheran Church
X-ORIGINAL-URL:https://messiahlutheranchurchhouston.org
X-WR-CALDESC:Events for Messiah Lutheran Church
BEGIN:VEVENT
DTSTART;TZID=UTC+0:20230406T190000
DTEND;TZID=UTC+0:20230406T200000
DTSTAMP:20260423T071511
CREATED:20230322T170748Z
LAST-MODIFIED:20230322T170748Z
UID:4933-1680807600-1680811200@messiahlutheranchurchhouston.org
SUMMARY:Communion Worship
DESCRIPTION:
URL:https://messiahlutheranchurchhouston.org/event/communion-worship-147/
END:VEVENT
END:VCALENDAR