BEGIN:VCALENDAR
VERSION:2.0
PRODID:-//Messiah Lutheran Church - ECPv4.6//NONSGML v1.0//EN
CALSCALE:GREGORIAN
METHOD:PUBLISH
X-WR-CALNAME:Messiah Lutheran Church
X-ORIGINAL-URL:https://messiahlutheranchurchhouston.org
X-WR-CALDESC:Events for Messiah Lutheran Church
BEGIN:VEVENT
DTSTART;TZID=UTC+0:20220414T190000
DTEND;TZID=UTC+0:20220414T200000
DTSTAMP:20260422T012439
CREATED:20220323T161437Z
LAST-MODIFIED:20220323T161437Z
UID:4235-1649962800-1649966400@messiahlutheranchurchhouston.org
SUMMARY:Communion Worship
DESCRIPTION:
URL:https://messiahlutheranchurchhouston.org/event/communion-worship-120/
END:VEVENT
END:VCALENDAR