BEGIN:VCALENDAR
VERSION:2.0
PRODID:-//Messiah Lutheran Church - ECPv4.6//NONSGML v1.0//EN
CALSCALE:GREGORIAN
METHOD:PUBLISH
X-WR-CALNAME:Messiah Lutheran Church
X-ORIGINAL-URL:https://messiahlutheranchurchhouston.org
X-WR-CALDESC:Events for Messiah Lutheran Church
BEGIN:VEVENT
DTSTART;TZID=UTC+0:20220403T090000
DTEND;TZID=UTC+0:20220403T100000
DTSTAMP:20260421T200726
CREATED:20220323T155743Z
LAST-MODIFIED:20220323T155743Z
UID:4172-1648976400-1648980000@messiahlutheranchurchhouston.org
SUMMARY:Communion Worship
DESCRIPTION:
URL:https://messiahlutheranchurchhouston.org/event/communion-worship-118/
END:VEVENT
END:VCALENDAR