BEGIN:VCALENDAR
VERSION:2.0
PRODID:-//Messiah Lutheran Church - ECPv4.6//NONSGML v1.0//EN
CALSCALE:GREGORIAN
METHOD:PUBLISH
X-WR-CALNAME:Messiah Lutheran Church
X-ORIGINAL-URL:https://messiahlutheranchurchhouston.org
X-WR-CALDESC:Events for Messiah Lutheran Church
BEGIN:VEVENT
DTSTART;TZID=UTC+0:20220320T090000
DTEND;TZID=UTC+0:20220320T100000
DTSTAMP:20260421T194006
CREATED:20220223T185455Z
LAST-MODIFIED:20220223T185455Z
UID:4115-1647766800-1647770400@messiahlutheranchurchhouston.org
SUMMARY:Communion Worship
DESCRIPTION:
URL:https://messiahlutheranchurchhouston.org/event/communion-worship-117/
END:VEVENT
END:VCALENDAR