BEGIN:VCALENDAR
VERSION:2.0
PRODID:-//Messiah Lutheran Church - ECPv4.6//NONSGML v1.0//EN
CALSCALE:GREGORIAN
METHOD:PUBLISH
X-WR-CALNAME:Messiah Lutheran Church
X-ORIGINAL-URL:https://messiahlutheranchurchhouston.org
X-WR-CALDESC:Events for Messiah Lutheran Church
BEGIN:VEVENT
DTSTART;TZID=UTC+0:20170813T150000
DTEND;TZID=UTC+0:20170813T160000
DTSTAMP:20260419T205438
CREATED:20170724T191257Z
LAST-MODIFIED:20170724T191257Z
UID:1208-1502636400-1502640000@messiahlutheranchurchhouston.org
SUMMARY:Classical Musical Recital
DESCRIPTION:
URL:https://messiahlutheranchurchhouston.org/event/classical-musical-recital/
END:VEVENT
END:VCALENDAR