BEGIN:VCALENDAR
VERSION:2.0
PRODID:-//Messiah Lutheran Church - ECPv4.6//NONSGML v1.0//EN
CALSCALE:GREGORIAN
METHOD:PUBLISH
X-WR-CALNAME:Messiah Lutheran Church
X-ORIGINAL-URL:https://messiahlutheranchurchhouston.org
X-WR-CALDESC:Events for Messiah Lutheran Church
BEGIN:VEVENT
DTSTART;TZID=UTC+0:20230430T113000
DTEND;TZID=UTC+0:20230430T150000
DTSTAMP:20260423T023148
CREATED:20230322T170422Z
LAST-MODIFIED:20230322T170422Z
UID:4915-1682854200-1682866800@messiahlutheranchurchhouston.org
SUMMARY:Church Picnic
DESCRIPTION:
URL:https://messiahlutheranchurchhouston.org/event/church-picnic/
END:VEVENT
END:VCALENDAR