BEGIN:VCALENDAR
VERSION:2.0
PRODID:-//Messiah Lutheran Church - ECPv4.6//NONSGML v1.0//EN
CALSCALE:GREGORIAN
METHOD:PUBLISH
X-WR-CALNAME:Messiah Lutheran Church
X-ORIGINAL-URL:https://messiahlutheranchurchhouston.org
X-WR-CALDESC:Events for Messiah Lutheran Church
BEGIN:VEVENT
DTSTART;VALUE=DATE:20170417
DTEND;VALUE=DATE:20170417
DTSTAMP:20260421T022935
CREATED:20170329T212301Z
LAST-MODIFIED:20170329T212301Z
UID:1014-1492387200-1492473599@messiahlutheranchurchhouston.org
SUMMARY:Church Office Closed
DESCRIPTION:
URL:https://messiahlutheranchurchhouston.org/event/church-office-closed/
END:VEVENT
END:VCALENDAR