BEGIN:VCALENDAR
VERSION:2.0
PRODID:-//Messiah Lutheran Church - ECPv4.6//NONSGML v1.0//EN
CALSCALE:GREGORIAN
METHOD:PUBLISH
X-WR-CALNAME:Messiah Lutheran Church
X-ORIGINAL-URL:https://messiahlutheranchurchhouston.org
X-WR-CALDESC:Events for Messiah Lutheran Church
BEGIN:VEVENT
DTSTART;VALUE=DATE:20170414
DTEND;VALUE=DATE:20170414
DTSTAMP:20260420T195447
CREATED:20170329T213344Z
LAST-MODIFIED:20170329T213344Z
UID:1041-1492128000-1492214399@messiahlutheranchurchhouston.org
SUMMARY:Church Office Closed
DESCRIPTION:
URL:https://messiahlutheranchurchhouston.org/event/church-office-closed-2/
END:VEVENT
END:VCALENDAR