BEGIN:VCALENDAR
VERSION:2.0
PRODID:-//Messiah Lutheran Church - ECPv4.6//NONSGML v1.0//EN
CALSCALE:GREGORIAN
METHOD:PUBLISH
X-WR-CALNAME:Messiah Lutheran Church
X-ORIGINAL-URL:https://messiahlutheranchurchhouston.org
X-WR-CALDESC:Events for Messiah Lutheran Church
BEGIN:VEVENT
DTSTART;TZID=UTC+0:20230226T101500
DTEND;TZID=UTC+0:20230226T111500
DTSTAMP:20260423T160324
CREATED:20230125T191534Z
LAST-MODIFIED:20230125T191534Z
UID:4817-1677406500-1677410100@messiahlutheranchurchhouston.org
SUMMARY:Children's Sunday School
DESCRIPTION:
URL:https://messiahlutheranchurchhouston.org/event/childrens-sunday-school-35/
END:VEVENT
END:VCALENDAR