BEGIN:VCALENDAR
VERSION:2.0
PRODID:-//Messiah Lutheran Church - ECPv4.6//NONSGML v1.0//EN
CALSCALE:GREGORIAN
METHOD:PUBLISH
X-WR-CALNAME:Messiah Lutheran Church
X-ORIGINAL-URL:https://messiahlutheranchurchhouston.org
X-WR-CALDESC:Events for Messiah Lutheran Church
BEGIN:VEVENT
DTSTART;TZID=UTC+0:20170523T100000
DTEND;TZID=UTC+0:20170523T110000
DTSTAMP:20260420T182204
CREATED:20170426T170713Z
LAST-MODIFIED:20170426T170713Z
UID:1077-1495533600-1495537200@messiahlutheranchurchhouston.org
SUMMARY:Chapel for Early Childhood Center
DESCRIPTION:
URL:https://messiahlutheranchurchhouston.org/event/chapel-for-early-childhood-center-9/
END:VEVENT
END:VCALENDAR