BEGIN:VCALENDAR
VERSION:2.0
PRODID:-//Messiah Lutheran Church - ECPv4.6//NONSGML v1.0//EN
CALSCALE:GREGORIAN
METHOD:PUBLISH
X-WR-CALNAME:Messiah Lutheran Church
X-ORIGINAL-URL:https://messiahlutheranchurchhouston.org
X-WR-CALDESC:Events for Messiah Lutheran Church
BEGIN:VEVENT
DTSTART;TZID=UTC+0:20170419T100000
DTEND;TZID=UTC+0:20170419T110000
DTSTAMP:20260421T004357
CREATED:20170329T212840Z
LAST-MODIFIED:20170329T212840Z
UID:1029-1492596000-1492599600@messiahlutheranchurchhouston.org
SUMMARY:Chapel for Early Childhood Center
DESCRIPTION:
URL:https://messiahlutheranchurchhouston.org/event/chapel-for-early-childhood-center-6/
END:VEVENT
END:VCALENDAR