BEGIN:VCALENDAR
VERSION:2.0
PRODID:-//Messiah Lutheran Church - ECPv4.6//NONSGML v1.0//EN
CALSCALE:GREGORIAN
METHOD:PUBLISH
X-WR-CALNAME:Messiah Lutheran Church
X-ORIGINAL-URL:https://messiahlutheranchurchhouston.org
X-WR-CALDESC:Events for Messiah Lutheran Church
BEGIN:VEVENT
DTSTART;TZID=UTC+0:20170404T100000
DTEND;TZID=UTC+0:20170404T110000
DTSTAMP:20260421T041019
CREATED:20170329T212333Z
LAST-MODIFIED:20170329T212333Z
UID:1016-1491300000-1491303600@messiahlutheranchurchhouston.org
SUMMARY:Chapel for Early Childhood Center
DESCRIPTION:
URL:https://messiahlutheranchurchhouston.org/event/chapel-for-early-childhood-center-4/
END:VEVENT
END:VCALENDAR