BEGIN:VCALENDAR
VERSION:2.0
PRODID:-//Messiah Lutheran Church - ECPv4.6//NONSGML v1.0//EN
CALSCALE:GREGORIAN
METHOD:PUBLISH
X-WR-CALNAME:Messiah Lutheran Church
X-ORIGINAL-URL:https://messiahlutheranchurchhouston.org
X-WR-CALDESC:Events for Messiah Lutheran Church
BEGIN:VEVENT
DTSTART;TZID=UTC+0:20170822T100000
DTEND;TZID=UTC+0:20170822T110000
DTSTAMP:20260419T184646
CREATED:20170724T191757Z
LAST-MODIFIED:20170724T191757Z
UID:1225-1503396000-1503399600@messiahlutheranchurchhouston.org
SUMMARY:Chapel for Early Childhood Center
DESCRIPTION:
URL:https://messiahlutheranchurchhouston.org/event/chapel-for-early-childhood-center-18/
END:VEVENT
END:VCALENDAR