BEGIN:VCALENDAR
VERSION:2.0
PRODID:-//Messiah Lutheran Church - ECPv4.6//NONSGML v1.0//EN
CALSCALE:GREGORIAN
METHOD:PUBLISH
X-WR-CALNAME:Messiah Lutheran Church
X-ORIGINAL-URL:https://messiahlutheranchurchhouston.org
X-WR-CALDESC:Events for Messiah Lutheran Church
BEGIN:VEVENT
DTSTART;TZID=UTC+0:20210215T100000
DTEND;TZID=UTC+0:20210215T110000
DTSTAMP:20260422T115545
CREATED:20210128T171532Z
LAST-MODIFIED:20210128T171532Z
UID:3314-1613383200-1613386800@messiahlutheranchurchhouston.org
SUMMARY:Chapel at Early Childhood Center
DESCRIPTION:
URL:https://messiahlutheranchurchhouston.org/event/chapel-at-early-childhood-center-3/
END:VEVENT
END:VCALENDAR