BEGIN:VCALENDAR
VERSION:2.0
PRODID:-//Messiah Lutheran Church - ECPv4.6//NONSGML v1.0//EN
CALSCALE:GREGORIAN
METHOD:PUBLISH
X-WR-CALNAME:Messiah Lutheran Church
X-ORIGINAL-URL:https://messiahlutheranchurchhouston.org
X-WR-CALDESC:Events for Messiah Lutheran Church
BEGIN:VEVENT
DTSTART;TZID=UTC+0:20220414T150000
DTEND;TZID=UTC+0:20220414T153000
DTSTAMP:20260422T025941
CREATED:20220323T161343Z
LAST-MODIFIED:20220323T161343Z
UID:4231-1649948400-1649950200@messiahlutheranchurchhouston.org
SUMMARY:Brookdale Devotions
DESCRIPTION:
URL:https://messiahlutheranchurchhouston.org/event/brookdale-devotions-18/
END:VEVENT
END:VCALENDAR